BEGIN:VCALENDAR
VERSION:2.0
PRODID:icalendar-ruby
CALSCALE:GREGORIAN
METHOD:PUBLISH
BEGIN:VEVENT
DTSTAMP:20260421T160253Z
UID:5-1599526@crossroadsmayerthorpe.ca
DTSTART:20261025T173000Z
DTEND:20261025T183000Z
CLASS:PUBLIC
CREATED:20260421T082808
DESCRIPTION:Worship Service\nThis week we will begin a series of messages o
 n the first 14 Chapters of the book of Exodus. 
LAST-MODIFIED:20260421T082808
LOCATION:4719 - 44 Avenue\, Mayerthorpe\, AB
SUMMARY:Worship Service
URL;VALUE=URI:https://www.crossroadsmayerthorpe.ca/events/worship-service--
 5/2026-10-25
END:VEVENT
END:VCALENDAR
